BEGIN:VCALENDAR
VERSION:2.0
PRODID:-//BMW Moottoripyöräkerho - ECPv6.15.20//NONSGML v1.0//EN
CALSCALE:GREGORIAN
METHOD:PUBLISH
X-WR-CALNAME:BMW Moottoripyöräkerho
X-ORIGINAL-URL:https://bmwmc.fi
X-WR-CALDESC:Tapahtumat BMW Moottoripyöräkerho
REFRESH-INTERVAL;VALUE=DURATION:PT1H
X-Robots-Tag:noindex
X-PUBLISHED-TTL:PT1H
BEGIN:VTIMEZONE
TZID:Europe/Helsinki
BEGIN:DAYLIGHT
TZOFFSETFROM:+0200
TZOFFSETTO:+0300
TZNAME:EEST
DTSTART:20250330T010000
END:DAYLIGHT
BEGIN:STANDARD
TZOFFSETFROM:+0300
TZOFFSETTO:+0200
TZNAME:EET
DTSTART:20251026T010000
END:STANDARD
BEGIN:DAYLIGHT
TZOFFSETFROM:+0200
TZOFFSETTO:+0300
TZNAME:EEST
DTSTART:20260329T010000
END:DAYLIGHT
BEGIN:STANDARD
TZOFFSETFROM:+0300
TZOFFSETTO:+0200
TZNAME:EET
DTSTART:20261025T010000
END:STANDARD
BEGIN:DAYLIGHT
TZOFFSETFROM:+0200
TZOFFSETTO:+0300
TZNAME:EEST
DTSTART:20270328T010000
END:DAYLIGHT
BEGIN:STANDARD
TZOFFSETFROM:+0300
TZOFFSETTO:+0200
TZNAME:EET
DTSTART:20271031T010000
END:STANDARD
END:VTIMEZONE
BEGIN:VEVENT
DTSTART;TZID=Europe/Helsinki:20260307T080000
DTEND;TZID=Europe/Helsinki:20260308T170000
DTSTAMP:20260424T122517
CREATED:20260129T120233Z
LAST-MODIFIED:20260310T160009Z
UID:10000002-1772870400-1772989200@bmwmc.fi
SUMMARY:PORI MOTORSHOW
DESCRIPTION:BMW Moottoripyöräkerho osallistuu PORI MOTOR SHOW:n \n\n\nMOTORSHOW 2026\nLA-SU 7.-8.3.\n\n\n\n\nAIKA:  LA 10-17  •  SU 10-16\nPAIKKA:  PORIN KARHUHALLI\nOSOITE:  PORIN URHEILUKESKUS
URL:https://bmwmc.fi/tapahtuma/pori-motorshow/
LOCATION:Pori Karhuhalli\, Urheilutie 9\, Pori\, 28500\, Finland
CATEGORIES:Messut
END:VEVENT
BEGIN:VEVENT
DTSTART;VALUE=DATE:20260312
DTEND;VALUE=DATE:20260313
DTSTAMP:20260424T122517
CREATED:20260312T073641Z
LAST-MODIFIED:20260312T073641Z
UID:10000022-1773273600-1773359999@bmwmc.fi
SUMMARY:BMW MC Club Rider Training - Adventure
DESCRIPTION:Kitee\,\nKiteen Race & Event\, Aimontie\, 82380 Kitee
URL:https://bmwmc.fi/tapahtuma/bmw-mc-club-rider-training-adventure/
LOCATION:Kiteen Race & Event\, Aimontie\, Kitee\, 82380\, Suomi
CATEGORIES:Ajokoulutus
ORGANIZER;CN="BMW Moottoripy%C3%B6r%C3%A4kerho ry":MAILTO:info@bmwmc.fi
END:VEVENT
BEGIN:VEVENT
DTSTART;VALUE=DATE:20260316
DTEND;VALUE=DATE:20260317
DTSTAMP:20260424T122517
CREATED:20260316T133636Z
LAST-MODIFIED:20260316T133726Z
UID:10000057-1773619200-1773705599@bmwmc.fi
SUMMARY:Pirkanmaa - keskiviikkoajelut
DESCRIPTION:Alustavat ajopäivät ja ajat! \nTarkka aika ja paikka ilmoitetaan sähköpostilla – muutokset mahdollisia. \n  \n\n\n\nVko\nViikonpäivä\nPvm\nTapahtuma\nPaikkakunta\nVetäjä\n\n\n\n\n\n\n\n\n\n\n20\nKeskiviikko\n13.5.2026\nPunkalaidun\, Kahvila Myötätuuli\nPunkalaidun\nJyrki&Laura\n\n\n22\nKeskiviikko\n27.5.2026\nPerusajelua\, kohde avoin\nPirkanmaa + 150 km\nJyrki&Laura\n\n\n24\nKeskiviikko\n10.6.2026\nAkaa\, Pyhäjärven kierros\nPirkanmaa + 150 km\nOssi&Laura?\n\n\n25\nKeskiviikko\n17.6.2026\nSatakunta\, Midnight RUN\nTampere- Pori-Tampere\nJyrki&Laura\n\n\n26\nKeskiviikko\n 24.6.2026\nKahvilareissu Pihjalahden Rantamakasiini\nKuhmoinen\nJyrki&Laura\n\n\n30\nKeskiviikko\n22.7.2026\nPori\, ”Porilainen”\nPori\nLaura\n\n\n32\nKeskiviikko\n 5.8.2026\nPerusajelua\, kohde avoin\nPirkanmaa + 150 km\nJyrki&Laura\n\n\n34\nKeskiviikko\n19.8.2026\nRuovesi\, ”Makkaranpaistomatka”\nPirkanmaa + 150 km\nJyrki&Laura\n\n\n36\nKeskiviikko\n2.9.2026\nPerusajelua\, kohde avoin\nPirkanmaa + 150 km\nJyrki&Laura\n\n\n38\nKeskiviikko\n16.9.2026\nPerusajelua\, kohde avoin\nPirkanmaa + 150 km\nHeikki/Ossi?\n\n\n40\nKeskiviikko\n30.9.2026\nPerusajelua\, kohde avoin\nPirkanmaa + 150 km\nHeikki/Ossi?\n\n\n28\nTorstai\n9.7.2026\nBMW koeajokierros\, Mallikaisten kyläkoulu\nTurenki\nJyrki&Laura
URL:https://bmwmc.fi/tapahtuma/pirkanmaa-keskiviikkoajelut/2026-03-16/
CATEGORIES:Aluetapaamiset
ORGANIZER;CN="Lehtinen%2C Jyrki":MAILTO:jyrki.lehtinen@bmwmc.fi
END:VEVENT
BEGIN:VEVENT
DTSTART;TZID=Europe/Helsinki:20260316T080000
DTEND;TZID=Europe/Helsinki:20260316T170000
DTSTAMP:20260424T122517
CREATED:20260316T122422Z
LAST-MODIFIED:20260316T122628Z
UID:10000027-1773648000-1773680400@bmwmc.fi
SUMMARY:Keski-Suomi - ajeluillat
DESCRIPTION:Alustavat Keski-Suomen alueen ilta-ajeluiden ajankohdat vuonna 2026 ovat seuraavat: \n\ntorstai 7.5.2026 klo 17:00 – 22:00\ntorstai 4.6.2026 klo 17:00 – 22:00\ntorstai 2.7.2026 klo 17:00 – 22:00\ntorstai 6.8.2026 klo 17:00 – 22:00\ntorstai 10.9.2026 klo 17:00 – 22:00\n\nAjeluiltojen lähtöpaikka\, -aika ja reitti ilmoitetaan kutsuna kerholle ilmoittamaasi sähköpostiosoitteeseen. Ajeluiden viikonpäivät saattavat vaihtua ja lähdöt ovat olleet yleensä arkipäinä klo 15:00 – 17:30 välisenä aikana. Ensisijaisesti pyritään lähtemään kello 17:00. Lähtöpaikalle pyydetään saapumaan hyvissä ajoin ennen starttia\, jotta jää aikaa sopia reitti\, tauot\, ajojärjestys\, ym. käytännön asiat. Muista tankata ja muutenkin varmista pyöräsi ajokuntoisuus ennen kokoontumista. \nAjoiltoina ajetaan kahville jonnekin ja takaisin 150–300 km (kokonaiskesto 2–5 tuntia) kohteesta\, tiestöstä sekä säätilasta riippuen. Varsinaista säävarausta ei ole\, esim. sateen yllättäessä ajamme sateella. Matkat ajetaan aina mahdollisuuksien mukaan mutkateitä ja uusia reittejä ajellen\, paluu mahdollisuuksien mukaan eri reittiä em. periaatetta noudattaen. Mukaan voi tulla myöskin reitin varrelta. Paluumatkalla voi halutessaan irrottautua ryhmästä ja ajaa nopeampaa/suorempaa tietä haluamaansa kohteeseen. Voit myöskin halutessasi saapua suoraan kohteelle. Matkat suuntautuvat mahdollisuuksien mukaan ”uusiin” ja mielenkiintoisiin kohteisiin. Seuraavan ajokerran kohde ilmoitetaan hyvissä ajoin etukäteen ja niistä voidaan sopia yhdessä. Muutoksista tiedotetaan aina sähköpostitse. \nReitit ovat aina ajettavissa millä tahansa moottoripyörällä ja halutessaan myöskin matkustajan kanssa. Mikäli reitillä on soratieosuuksia\, niin niiden ajettavuudesta informoidaan etukäteen. Mahdollisuuksien mukaan järjestetään jonkin ajelun yhteydessä yhteiskokoontuminen jonkun/joidenkin lähimaakuntien BMW moottoripyöräkerholaisten kanssa. Ajoiltoihin ei ole ennakkoilmoittautumista\, ellei toisin mainita. Ajeluihin ovat tervetulleita kaikki BMW moottoripyöräkerhon jäsenet.
URL:https://bmwmc.fi/tapahtuma/keski-suomi-ajeluillat/2026-03-16/
CATEGORIES:Aluetapaamiset
ORGANIZER;CN="S%C3%A4teri%2C Rauno":MAILTO:rauno.sateri@bmwmc.fi
END:VEVENT
BEGIN:VEVENT
DTSTART;TZID=Europe/Helsinki:20260316T080000
DTEND;TZID=Europe/Helsinki:20260316T170000
DTSTAMP:20260424T122517
CREATED:20260316T124046Z
LAST-MODIFIED:20260319T080610Z
UID:10000033-1773648000-1773680400@bmwmc.fi
SUMMARY:Pohjois-Pohjanmaa - BMW ajoillat
DESCRIPTION:BMW ajoillat: \n\n\n\n20.5.2026\nBMW ajoilta\n17.00 – 21.00\nMatti\nEMC\, Vasaratie 2\, 90410 Oulu\n\n\n17.6.2026\nBMW ajoilta\n17.00 – 21.00\nHannu\nEMC\, Vasaratie 2\, 90410 Oulu\n\n\n15.7.2026\nBMW ajoilta\n17.00 – 21.00\nMatti\nEMC\, Vasaratie 2\, 90410 Oulu\n\n\n12.8.2026\nBMW ajoilta\n17.00 – 22.00\nMatti\nAuran Maja\, Alakyläntie 634\, 90540 Oulu\n\n\n9.9.2026\nBMW ajoilta\n17.00 – 21.00\nHannu\nEMC\, Vasaratie 2\, 90410 Oulu\n\n\n18.9.2026\nBMW ajoilta\, pimeäajoretki\n21.00 – 24.00\nMatti\nEMC\, Vasaratie 2\, 90410 Oulu
URL:https://bmwmc.fi/tapahtuma/pohjois-pohjanmaa-bmw-ajoillat/2026-03-16/
CATEGORIES:Aluetapaamiset
ORGANIZER;CN="Tr%C3%A4skelin%2C Matti":MAILTO:matti.traskelin@gmail.com
END:VEVENT
BEGIN:VEVENT
DTSTART;TZID=Europe/Helsinki:20260316T080000
DTEND;TZID=Europe/Helsinki:20260316T170000
DTSTAMP:20260424T122517
CREATED:20260316T124547Z
LAST-MODIFIED:20260316T124804Z
UID:10000040-1773648000-1773680400@bmwmc.fi
SUMMARY:Pohjois-pohjanmaa - EMC ajoillat
DESCRIPTION:25.5.2026\nEMC ajoilta\n17.30 – 21.00\nMatti\nEMC\, Vasaratie 2\, 90410 Oulu\n\n\n29.6.2026\nEMC ajoilta\, sora\n17.00 – 21.00\nMatti\nEMC\, Vasaratie 2\, 90410 Oulu\n\n\n\nEMC ajoilta\, asfaltti\n17.30 – 21.00\nHannu\nEMC\, Vasaratie 2\, 90410 Oulu\n\n\n27.7.2026\nEMC ajoilta\n17.30 – 21.00\nMatti\nEMC\, Vasaratie 2\, 90410 Oulu\n\n\n31.8.2026\nEMC ajoilta\, sora\n17.00 – 21.00\nMatti\nEMC\, Vasaratie 2\, 90410 Oulu\n\n\n\nEMC ajoilta\, asfaltti\n17.30 – 21.00\nHannu\nEMC\, Vasaratie 2\, 90410 Oulu\n\n\n26.9.2026\nEMC ajokauden päätös\n\nMatti\nEMC\, Vasaratie 2\, 90410 Oulu
URL:https://bmwmc.fi/tapahtuma/pohjois-pohjanmaa-emc-ajoillat/2026-03-16/
CATEGORIES:Aluetapaamiset
ORGANIZER;CN="K%C3%A4kel%C3%A4%2C Hannu":MAILTO:hannu.kakela@gmail.com
END:VEVENT
BEGIN:VEVENT
DTSTART;TZID=Europe/Helsinki:20260316T080000
DTEND;TZID=Europe/Helsinki:20260316T170000
DTSTAMP:20260424T122517
CREATED:20260316T125337Z
LAST-MODIFIED:20260316T130333Z
UID:10000048-1773648000-1773680400@bmwmc.fi
SUMMARY:Pohjois-Pohjanmaa - BMW tapaaminen Linnansaaressa
DESCRIPTION:6.5.2026\nBMW tapaaminen Linnansaaressa\n18.00 – 20.00\nHannu\nLinnansaari 1\, 90100 Oulu\n\n\n3.6.2026\nBMW tapaaminen Linnansaaressa\n18.00 – 20.00\nMatti\nLinnansaari 1\, 90100 Oulu\n\n\n1.7.2026\nBMW tapaaminen Linnansaaressa\n18.00 – 20.00\nHannu\nLinnansaari 1\, 90100 Oulu\n\n\n29.7.2026\nBMW tapaaminen Linnansaaressa\n18.00 – 20.00\nHannu\nLinnansaari 1\, 90100 Oulu\n\n\n26.8.2026\nBMW tapaaminen Linnansaaressa\n18.00 – 20.00\nHannu\nLinnansaari 1\, 90100 Oulu
URL:https://bmwmc.fi/tapahtuma/pohjois-pohjanmaa-bmw-tapaaminen-linnasaaressa/2026-03-16/
LOCATION:Linnansaari\, Oulu\, Linnansaari 1\, Oulu\, 90100
CATEGORIES:Aluetapaamiset
END:VEVENT
BEGIN:VEVENT
DTSTART;TZID=Europe/Helsinki:20260316T080000
DTEND;TZID=Europe/Helsinki:20260316T170000
DTSTAMP:20260424T122517
CREATED:20260316T134914Z
LAST-MODIFIED:20260316T134914Z
UID:10000070-1773648000-1773680400@bmwmc.fi
SUMMARY:Pirkanmaa - lauantain ajelut
DESCRIPTION:HUOM! Ajat ja paikat ilmoitetaan sähköpostissa. \n  \n\n\n\nVko\nViikonpäivä\nPvm\nTapahtuma\nPaikkakunta\nVetäjä\n\n\n\n18\nLauantai\n2.5.2026\nEllivuori\, kerhon vuosikokous\nSastamala\nLaura\n\n\n\n19\nLauantai\n9.5.2026\nIlmajoki\, Finfonic + dinner\nIlmajoki\nJyrki&Laura\nkoko päivä\n\n\n21\nLauantai\n23.5.2026\nHalli\, City 1 ajoharjoittelu K-S kerho+sauna\nHalli\, Jämsä\nJyrki&Laura\nkoko päivä\n\n\n23\nLauantai\n6.6.2026\nVirrat\, Route 66\, Jyrki 66\nPirkanmaa\nJyrki&Laura\n\n\n\n24\nLauantai\n13.6.2026\nKuopio\, ”Kalakukko”\nKuopio\nLaura\nkoko päivä\n\n\n26\nLauantai\n27.6.2026\nSavonlinna\, ”Lörtsy”\nSavonlinna\nJyrki&Laura\nkoko päivä\n\n\n29\nLauantai\n18.7.2026\nSaariston Rengastien kierros\nTurku\nLaura\nkoko päivä\n\n\n30\nLauantai\n25.7.2026\nLappeenranta\, ”Vety-Atomi”\nLappeenranta\nJyrki&Laura\nkoko päivä\n\n\n34\nLauantai\n22.8.2026\nKeski-Suomen soratiet\, koko päivä\nKeski-Suomi\nJyrki&Laura\nkoko päivä\n\n\n36\nLauantai\n5.9.2026\nJoku kokopäivän reissu\nUusimaa?\nLaura\n\n\n\n40\nLauantai\n3.10.2026\nKauden päätösajelut  + sauna?\n\nJyrki&Laura
URL:https://bmwmc.fi/tapahtuma/pirkanmaa-lauantain-ajelut/2026-03-16/
CATEGORIES:Aluetapaamiset
ORGANIZER;CN="Lehtinen%2C Jyrki":MAILTO:jyrki.lehtinen@bmwmc.fi
END:VEVENT
BEGIN:VEVENT
DTSTART;TZID=Europe/Helsinki:20260316T100000
DTEND;TZID=Europe/Helsinki:20260316T160000
DTSTAMP:20260424T122517
CREATED:20260316T125527Z
LAST-MODIFIED:20260316T125527Z
UID:10000054-1773655200-1773676800@bmwmc.fi
SUMMARY:Pohjois-Pohjanmaa - Veteraanikonepäivät
DESCRIPTION:4.7.2026\nVeteraanikonepäivät 3.-5.7.2026\, Oulainen\n10.00 – 16.00\nMatti\nABC Tupos\, Tuposkorva 1\, 91910 Tupos
URL:https://bmwmc.fi/tapahtuma/pohjois-pohjanmaa-veteraanikonepaivat/
LOCATION:ABC Tupos\, Tuposkorva 1\, Tupos\, 91910
CATEGORIES:Aluetapaamiset
ORGANIZER;CN="Tr%C3%A4skelin%2C Matti":MAILTO:matti.traskelin@gmail.com
END:VEVENT
BEGIN:VEVENT
DTSTART;TZID=Europe/Helsinki:20260318T180000
DTEND;TZID=Europe/Helsinki:20260318T200000
DTSTAMP:20260424T122517
CREATED:20260311T132029Z
LAST-MODIFIED:20260311T132108Z
UID:10000007-1773856800-1773864000@bmwmc.fi
SUMMARY:Satakunta – Aluetoiminnaan suunnittelupalaveri
DESCRIPTION:Satakunnan alueen suunnittelupalaveri pidetään keskiviikkona 18.3. klo 18. Paikkana entiseen tapaan Porin Konepyöräklubin tilat Porissa. Osoite on edelleenkin Vanhakoivistontie 61 28370 Pori. Olet tervetullut paikalle ja haluamme kuulla sinun ajatuksia ensi kesän toiminnasta/ohjelmasta. Kaffetta ja pullaakin saa. \nNähdään! \nMarkku & Juha
URL:https://bmwmc.fi/tapahtuma/satakunta-aluetoiminnaan-suunnittelupalaveri/
LOCATION:Porin Konepyöräklubi\, Vanhakoivistontie 61\, Pori\, 28360\, Suomi
CATEGORIES:Aluetapaamiset
ORGANIZER;CN="Juha Aaltonen":MAILTO:juha.aaltonen@bmwmc.fi
END:VEVENT
BEGIN:VEVENT
DTSTART;TZID=Europe/Helsinki:20260318T180000
DTEND;TZID=Europe/Helsinki:20260318T200000
DTSTAMP:20260424T122517
CREATED:20260311T150935Z
LAST-MODIFIED:20260311T150935Z
UID:10000019-1773856800-1773864000@bmwmc.fi
SUMMARY:Satakunta - aluetoiminnan suunnittelupalaveri
DESCRIPTION:Satakunnan alueen suunnittelupalaveri pidetään keskiviikkona 18.3. klo 18. Paikkana entiseen tapaan Porin Konepyöräklubin tilat Porissa. Osoite on edelleenkin Vanhakoivistontie 61 28370 Pori. Olet tervetullut paikalle ja haluamme kuulla sinun ajatuksia ensi kesän toiminnasta/ohjelmasta. Kaffetta ja pullaakin saa. \nNähdään! \nMarkku & Juha
URL:https://bmwmc.fi/tapahtuma/satakunta-aluetoiminnan-suunnittelupalaveri/
LOCATION:Porin Konepyöräklubi\, Vanhakoivistontie 61\, Pori\, 28360\, Suomi
CATEGORIES:Aluetapaamiset
ORGANIZER;CN="Markku Sippola":MAILTO:markku.sippola@bmwmc.fi
END:VEVENT
BEGIN:VEVENT
DTSTART;VALUE=DATE:20260321
DTEND;VALUE=DATE:20260323
DTSTAMP:20260424T122517
CREATED:20260217T112959Z
LAST-MODIFIED:20260310T160003Z
UID:10000004-1774051200-1774223999@bmwmc.fi
SUMMARY:BMW MP kerho osallistuu Keski-Suomen moottoripyöränäyttelyyn
DESCRIPTION:BMW Moottoripyöräkerho osallistuu Keski-Suomen moottoripyöränäyttelyyn.
URL:https://bmwmc.fi/tapahtuma/bmw-mp-kerho-osallistuu-keski-suomen-moottoripyoranayttelyyn/
CATEGORIES:Messut
ORGANIZER;CN="BMW Moottoripy%C3%B6r%C3%A4kerho ry":MAILTO:info@bmwmc.fi
END:VEVENT
BEGIN:VEVENT
DTSTART;TZID=Europe/Helsinki:20260322T150000
DTEND;TZID=Europe/Helsinki:20260322T170000
DTSTAMP:20260424T122517
CREATED:20260316T141445Z
LAST-MODIFIED:20260316T141712Z
UID:10000082-1774191600-1774198800@bmwmc.fi
SUMMARY:Päijät-Häme - suunnittelupalaveri
DESCRIPTION:Ennen varsinaista ajokautta pidetään pienimuotoinen kahvitilaisuus\, jossa katsotaan vähän viime vuoteen ja suunnitellaan tulevaa kesää. Yleisesti ottaen viime kesä oli varsin vilkas ja teimme mukavia retkiä. Yhteistyötä aloiteltiin naapuri alueiden kanssa ja sitä jatketaan. \nKokoonnutaan Orimattilaan tuttuun paikkaan edellisiltä ajokausilta. \nCafe Misaco\, Hevostie 2\, 16300 Orimattila\, sunnuntaina 22.3. klo 15.00. 
URL:https://bmwmc.fi/tapahtuma/paijat-hame-suunnittelupalaveri/
LOCATION:Cafe Misaco\, Hevostie 2\, Orimattila\, 16300
CATEGORIES:Aluetapaamiset
ORGANIZER;CN="Rikkonen%2C Markku":MAILTO:markku.rikkonen@bmwmc.fi
END:VEVENT
BEGIN:VEVENT
DTSTART;TZID=Europe/Helsinki:20260327T170000
DTEND;TZID=Europe/Helsinki:20260327T200000
DTSTAMP:20260424T122517
CREATED:20260316T124712Z
LAST-MODIFIED:20260316T124712Z
UID:10000046-1774630800-1774641600@bmwmc.fi
SUMMARY:Pohjois-Pohjanmaa - BMW VIP
DESCRIPTION:
URL:https://bmwmc.fi/tapahtuma/pohjois-pohjanmaa-bmw-vip/
LOCATION:EMC Oulu\, Vasaratie 2\, Oulu\, 90410\, Finland
CATEGORIES:Aluetapaamiset
ORGANIZER;CN="Tr%C3%A4skelin%2C Matti":MAILTO:matti.traskelin@gmail.com
END:VEVENT
BEGIN:VEVENT
DTSTART;TZID=Europe/Helsinki:20260328T100000
DTEND;TZID=Europe/Helsinki:20260328T150000
DTSTAMP:20260424T122517
CREATED:20260319T082318Z
LAST-MODIFIED:20260319T082603Z
UID:10000085-1774692000-1774710000@bmwmc.fi
SUMMARY:Uusimaa - Biketeam Vantaan avajaiset - BMW Moottoripyöräkerho paikalla!
DESCRIPTION:Biketeam Vantaa viettää uuden täyden palvelun moottoripyöräilykeskuksen (samassa rakennuksessa mm Eurobiker) avajaisia 28.3.2026 klo 10.00 – 15.00. Uusi osoite on Kuninkaalantie 19\, 01300 Vantaa. \nTsekkaa tarkemmat ajo-ohjeet tästä \n  \nBMW Moottoripyöräkerho on myös paikalla\, joten tule ihmeessä moikkaamaan meitä! 
URL:https://bmwmc.fi/tapahtuma/uusimaa-biketeam-vantaan-avajaiset-bmw-moottoripyorakerho-paikalla/
LOCATION:Biketeam Vantaa\, Kuninkaalantie 19\, Vantaa\, 01300
CATEGORIES:Aluetapaamiset,BMW Moottoripyöräkerho,Kerhotapahtuma
ORGANIZER;CN="Aho%2C Tuomas":MAILTO:tuomas.aho@bmwmc.fi
END:VEVENT
BEGIN:VEVENT
DTSTART;TZID=Europe/Helsinki:20260331T170000
DTEND;TZID=Europe/Helsinki:20260331T190000
DTSTAMP:20260424T122517
CREATED:20260317T064913Z
LAST-MODIFIED:20260317T064913Z
UID:10000083-1774976400-1774983600@bmwmc.fi
SUMMARY:Varsinais-Suomi - Kauden suunnittelupalaveri
DESCRIPTION:Kauden alkuun järjestetään suunnittelukahvit 31.3.26 klo 17:00 BikeTeamissa Raisiossa Tuotekadulla. \nMatias on luvannut keittää kahvit ja pullaakin on luvannut leipoa\, toivoisin ilmoittautumista sunnuntaihin 29.3.26 mennessä\, sähköpostilla tai whatsappilla.\nBiketeamin henkilökunta on paikalla ja on luvannut esitellä uutuudet.
URL:https://bmwmc.fi/tapahtuma/varsinais-suomi-kauden-suunnittelupalaveri/
LOCATION:Biketeam Raisio\, Tuotekatu 12\, Raisio\, 21200
CATEGORIES:Aluetapaamiset
ORGANIZER;CN="Harju%2C Kalle":MAILTO:kalle.harju@bmwmc.fi
END:VEVENT
END:VCALENDAR