BEGIN:VCALENDAR
VERSION:2.0
PRODID:-//BMW Moottoripyöräkerho - ECPv6.15.20//NONSGML v1.0//EN
CALSCALE:GREGORIAN
METHOD:PUBLISH
X-ORIGINAL-URL:https://bmwmc.fi
X-WR-CALDESC:Tapahtumat BMW Moottoripyöräkerho
REFRESH-INTERVAL;VALUE=DURATION:PT1H
X-Robots-Tag:noindex
X-PUBLISHED-TTL:PT1H
BEGIN:VTIMEZONE
TZID:Europe/Helsinki
BEGIN:DAYLIGHT
TZOFFSETFROM:+0200
TZOFFSETTO:+0300
TZNAME:EEST
DTSTART:20250330T010000
END:DAYLIGHT
BEGIN:STANDARD
TZOFFSETFROM:+0300
TZOFFSETTO:+0200
TZNAME:EET
DTSTART:20251026T010000
END:STANDARD
BEGIN:DAYLIGHT
TZOFFSETFROM:+0200
TZOFFSETTO:+0300
TZNAME:EEST
DTSTART:20260329T010000
END:DAYLIGHT
BEGIN:STANDARD
TZOFFSETFROM:+0300
TZOFFSETTO:+0200
TZNAME:EET
DTSTART:20261025T010000
END:STANDARD
BEGIN:DAYLIGHT
TZOFFSETFROM:+0200
TZOFFSETTO:+0300
TZNAME:EEST
DTSTART:20270328T010000
END:DAYLIGHT
BEGIN:STANDARD
TZOFFSETFROM:+0300
TZOFFSETTO:+0200
TZNAME:EET
DTSTART:20271031T010000
END:STANDARD
END:VTIMEZONE
BEGIN:VEVENT
DTSTART;TZID=Europe/Helsinki:20260422T170000
DTEND;TZID=Europe/Helsinki:20260422T210000
DTSTAMP:20260420T061610
CREATED:20260419T080709Z
LAST-MODIFIED:20260419T080734Z
UID:10000147-1776877200-1776891600@bmwmc.fi
SUMMARY:Uusimaa - Soralla Lahnikselle
DESCRIPTION:Uudenmaan soraryhmä ”USR” kokoontuu! \nLähtö 22.4. keskiviikko Lohja Lempola K-market parkki klo 17.00.\nSuunta Lahnajärvi\, menee normirenkailla\, kesto noin 2\,5 tuntia. \nKaikki mukaan ottamaan tuntumaa! Voidaan samalla pohtia tulevaa kautta.
URL:https://bmwmc.fi/tapahtuma/uusimaa-soralla-lahnikselle/
LOCATION:K-Market Lempola\, Lohja\, Lehmijärventie 2\, Lohja\, 08500\, Suomi
CATEGORIES:Aluetapaamiset
ORGANIZER;CN="H%C3%A4llfors%2C Matti":MAILTO:hallforsmatti@gmail.com
END:VEVENT
END:VCALENDAR